BEGIN:VCALENDAR
VERSION:2.0
PRODID:-//Vaše Aplikace//NONSGML v1.0//EN
BEGIN:VEVENT
UID:69e9799028f51
DTSTAMP:20260423T014448
DTSTART:20251125T100000
DTEND:20251125T120000
SUMMARY:Webinář pro systém SURE 2025
DESCRIPTION:Dne 25. 11. 2025 se uskuteční webinář určený zejména uživatelům systému SURE v Čechách a na Slovensku.

Společně probereme vývoj transpozice směrnice RED III do legislativy ČR a SR zejména ve vztahu nových povinností spojených s povinnou kalkulací úspor emisí skleníkových plynů (a to jak u bioplynových stanic, tak u pevné biomasy). Dále představíme vývoj v oblasti lesní biomasy ve vztahu k novým rizikovým analýzám a nastíníme další postup v certifikaci.

Na akci je potřeba registrace a účast je zdarma.

Z webináře nebude pořizován záznam.

REGISTRACE

Informace k připojení na webinář Vám budu zaslány v emailu s potvrzením úspěšné registrace.
END:VEVENT
END:VCALENDAR
