BEGIN:VCALENDAR
VERSION:2.0
PRODID:-//Vaše Aplikace//NONSGML v1.0//EN
BEGIN:VEVENT
UID:69e9799028c28
DTSTAMP:20260423T014448
DTSTART:20251006T130000
DTEND:20251006T140000
SUMMARY:Webinář čtvrtletní hlášení KZR INiG 3. Q 2025
DESCRIPTION:V pondělí 6. října 2025 od 13:00 proběhne školení k dalšímu hlášení v systému  KZR INiG za 3. Q 2025. Novinkou je hlášení vlastní produkce. Hlášení je nutné podat do 20. října, a to i v případě subjektů, které u tohoto systému končí nebo skončily a přechází k jinému. Vždy je nutné hlásit kvartál (dny), ve kterém ještě platil certifikát u daného systému. V souvislosti se zavedením hlášení vlastní produkce plodin a zbytků byl upraven ceník pro bioplynové stanice, který hlášené suroviny zlevnil.

Nově se hlásí vlastní produkce biomasy a odpadů/zbytků! Ti, kteří mají již novou podobu hlášení, budou jednoduše vyplňovat množství biomasy v tunách do řádků podle rozsahu FA - farma (vlastní produkce zemědělské biomasy) a PO (point of origin - místo původu odpadu/zbytku). Ti, kteří mají hlášení ještě po staru, tak budou hlásit vlastní produkci stejně jako nákupy zadáním Feedstock - surovina (Maize silage) - Czech Republic - Biogas and Biomethane - tuny materiálu. Naskladnění vlastní produkce plodin je možné dělat v době naskladnění nebo průběžně podle spotřeby v BPS.

Kdy: pondělí, 6. října 2025 13:00 - 14:00
Odkaz na videohovor: https://meet.google.com/whc-gmkh-yku
Nebo vytočte: ‪(CZ) +420 234 610 078‬ PIN: ‪623 016 898‬#

Ti z Vás, kteří v nedávné době prošli recertifikací a mají hlášení opravena, prosím, snažte se nová hlášení dělat podle vzoru ve Vašem systému, nově tedy ještě navíc s hlášením vlastní produkce plodin/zbytků. 

Pokud si s čímkoliv nejste jistí, obraťte se na mě a já Vám s tím pomohu. Připravte si k tomu hmotnostní bilanci s přehlednými kvartálními součty jednotlivých surovin, označte certifikované nákupy (které se nehlásí) a v případě bioplynových stanic také konverzní bilanci za daný kvartál.

Své dotazy pište na: dajcl@biom.cz.
END:VEVENT
END:VCALENDAR
