BEGIN:VCALENDAR
VERSION:2.0
PRODID:-//Vaše Aplikace//NONSGML v1.0//EN
BEGIN:VEVENT
UID:69e97888ce4d4
DTSTAMP:20260423T014024
DTSTART:20260503T000000
DTEND:20260509T235900
SUMMARY:Nakopej si pytel! 2026: Mezinárodní týden kompostování
DESCRIPTION:V týdnu od 3. – 9. května probíhá tradiční Mezinárodní týden kompostování. Asociace CZ Biom připravuje již 6. ročník tematické výzvy “NAKOPEJ SI PYTEL!”, v rámci které si návštěvníci zapojených kompostáren mohou odnést pytel kompostu na své zahrádky zdarma. Akce má za cíl poukázat na důležitou roli kompostáren při zpracování bioodpadů a jejich opětovného využití jako hnojiva na půdu. Zúčastněné kompostárny vyhradí několik tun kompostu, který si lidé budou moci sami nakopat do pytle a odvézt. Akce se koná pod záštitou Ministerstva životního prostředí.

Více informací: https://www.czbiom.cz/akce/nakopej-si-pytel…den-kompostovani/
END:VEVENT
END:VCALENDAR
