BEGIN:VCALENDAR
VERSION:2.0
PRODID:-//Vaše Aplikace//NONSGML v1.0//EN
BEGIN:VEVENT
UID:69e978889ee02
DTSTAMP:20260423T014024
DTSTART:20260412T090000
DTEND:20260415T180000
SUMMARY:CZ Biom na AgriShow 2026 v Brně
DESCRIPTION:Navštivte náš stánek na veletrhu Biomasa, který se koná od neděle 12. do středy 15. dubna v rámci Veletrhu pro rostlinnou a živočišnou výrobu AgriShow 2026 na výstavišti v Brně v pavilonu Z. Zemědělský veletrh spojuje vše, co souvisí s rostlinnou i živočišnou výrobou. Návštěvníci uvidí moderní zemědělskou techniku, nové technologie pro rostlinnou výrobu a chov zvířat, inovativní produkty i služby. V pondělí proběhne současně odborný doprovodný program reflektující aktuální trendy a vývoj v zemědělství, biomase, bioplynu a biometanu.
END:VEVENT
END:VCALENDAR
