BEGIN:VCALENDAR
VERSION:2.0
PRODID:-//Vaše Aplikace//NONSGML v1.0//EN
BEGIN:VEVENT
UID:69e979ab38980
DTSTAMP:20260423T014515
DTSTART:20251203T093000
DTEND:20251205T130000
SUMMARY:Školení provozovatelů a obsluhy BPS 2025
DESCRIPTION:Další ročník oblíbeného školení provozovatelů a obsluhy bioplynových stanic je připraven v termínu 3. - 5. prosince 2025. Tentokrát se sejdeme v Královehradeckém kraji v areálu Farma Basařovi (Prosečné 53, 543 73 Prosečné).
END:VEVENT
END:VCALENDAR
